BEGIN:VCALENDAR
VERSION:2.0
PRODID:-//Diagnóstico Journal - ECPv6.15.17//NONSGML v1.0//EN
CALSCALE:GREGORIAN
METHOD:PUBLISH
X-ORIGINAL-URL:https://diagnosticojournal.com
X-WR-CALDESC:Eventos para Diagnóstico Journal
REFRESH-INTERVAL;VALUE=DURATION:PT1H
X-Robots-Tag:noindex
X-PUBLISHED-TTL:PT1H
BEGIN:VTIMEZONE
TZID:America/Argentina/Buenos_Aires
BEGIN:STANDARD
TZOFFSETFROM:-0300
TZOFFSETTO:-0300
TZNAME:-03
DTSTART:20240101T000000
END:STANDARD
END:VTIMEZONE
BEGIN:VEVENT
DTSTART;VALUE=DATE:20250815
DTEND;VALUE=DATE:20250817
DTSTAMP:20260424T235054
CREATED:20250527T132538Z
LAST-MODIFIED:20250527T132538Z
UID:24906-1755216000-1755388799@diagnosticojournal.com
SUMMARY:XXII Congreso Latinoamericano de Ultrasonido en Medicina y Biología - FLAUS 2025
DESCRIPTION:
URL:https://diagnosticojournal.com/evento/xxii-congreso-latinoamericano-de-ultrasonido-en-medicina-y-biologia-flaus-2025/
LOCATION:Centro de Formación del Instituto de Radiología del HCFMUSP\, San Pablo\, Brazil
ORGANIZER;CN="FLAUS":MAILTO:flaus@flaus-us.org
END:VEVENT
END:VCALENDAR