BEGIN:VCALENDAR
VERSION:2.0
PRODID:-//Diagnóstico Journal - ECPv6.15.17//NONSGML v1.0//EN
CALSCALE:GREGORIAN
METHOD:PUBLISH
X-ORIGINAL-URL:https://diagnosticojournal.com
X-WR-CALDESC:Eventos para Diagnóstico Journal
REFRESH-INTERVAL;VALUE=DURATION:PT1H
X-Robots-Tag:noindex
X-PUBLISHED-TTL:PT1H
BEGIN:VTIMEZONE
TZID:America/Argentina/Buenos_Aires
BEGIN:STANDARD
TZOFFSETFROM:-0300
TZOFFSETTO:-0300
TZNAME:-03
DTSTART:20240101T000000
END:STANDARD
END:VTIMEZONE
BEGIN:VEVENT
DTSTART;VALUE=DATE:20250819
DTEND;VALUE=DATE:20250822
DTSTAMP:20260424T234324
CREATED:20250106T140115Z
LAST-MODIFIED:20250106T140115Z
UID:23706-1755561600-1755820799@diagnosticojournal.com
SUMMARY:Expo Med - Hospitalar México
DESCRIPTION:
URL:https://diagnosticojournal.com/evento/expo-med-hospitalar-mexico/
LOCATION:Centro Citibanamex\, Ciudad de México\, Mexico
ATTACH;FMTTYPE=image/webp:https://diagnosticojournal.com/wp-content/uploads/2025/01/ExpoMed-Mexico-2025.webp
END:VEVENT
BEGIN:VEVENT
DTSTART;VALUE=DATE:20250820
DTEND;VALUE=DATE:20250823
DTSTAMP:20260424T234324
CREATED:20250527T203629Z
LAST-MODIFIED:20250527T203629Z
UID:24927-1755648000-1755907199@diagnosticojournal.com
SUMMARY:Simposio Multidisciplinario SAUMB 2025
DESCRIPTION:
URL:https://diagnosticojournal.com/evento/simposio-multidisciplinario-saumb-2025/
LOCATION:Palais Rouge\, Jerónimo Salguero 1443\, Buenos Aires\, Argentina
ATTACH;FMTTYPE=image/png:https://diagnosticojournal.com/wp-content/uploads/2025/05/SAUMB2025.png
END:VEVENT
END:VCALENDAR