BEGIN:VCALENDAR
VERSION:2.0
PRODID:-//Diagnóstico Journal - ECPv6.15.17//NONSGML v1.0//EN
CALSCALE:GREGORIAN
METHOD:PUBLISH
X-ORIGINAL-URL:https://diagnosticojournal.com
X-WR-CALDESC:Eventos para Diagnóstico Journal
REFRESH-INTERVAL;VALUE=DURATION:PT1H
X-Robots-Tag:noindex
X-PUBLISHED-TTL:PT1H
BEGIN:VTIMEZONE
TZID:America/Argentina/Buenos_Aires
BEGIN:STANDARD
TZOFFSETFROM:-0300
TZOFFSETTO:-0300
TZNAME:-03
DTSTART:20240101T000000
END:STANDARD
END:VTIMEZONE
BEGIN:VEVENT
DTSTART;VALUE=DATE:20251007
DTEND;VALUE=DATE:20251010
DTSTAMP:20260424T204048
CREATED:20250717T124044Z
LAST-MODIFIED:20250929T142623Z
UID:25391-1759795200-1760054399@diagnosticojournal.com
SUMMARY:XX Jornadas Universitarias de Informática en Salud del Hospital Italiano - JIS Summit 2025
DESCRIPTION:7 y 9 de Octubre formato virtual \n9 de Octubre presencial
URL:https://diagnosticojournal.com/evento/xx-jornadas-universitarias-de-informatica-en-salud-del-hospital-italiano-jis-summit-2025/
LOCATION:Centro Metropolitano de Diseño\, Buenos Aires
END:VEVENT
BEGIN:VEVENT
DTSTART;VALUE=DATE:20251009
DTEND;VALUE=DATE:20251010
DTSTAMP:20260424T204048
CREATED:20250918T131925Z
LAST-MODIFIED:20250918T131925Z
UID:25895-1759968000-1760054399@diagnosticojournal.com
SUMMARY:XXVIII Congreso Argentino de Salud
DESCRIPTION:La nueva salud. La inteligencia artificial.
URL:https://diagnosticojournal.com/evento/xxviii-congreso-argentino-de-salud/
LOCATION:Buenos Aires Sheraton Hotel & Convention Center\, CABA\, Argentina
ATTACH;FMTTYPE=image/png:https://diagnosticojournal.com/wp-content/uploads/2025/09/CONGRESOACAMI2025.png
ORGANIZER;CN="Asociaci%C3%B3n Civil de Actividades M%C3%A9dicas Integradas":MAILTO:info@acami.org.ar
END:VEVENT
BEGIN:VEVENT
DTSTART;VALUE=DATE:20251009
DTEND;VALUE=DATE:20251012
DTSTAMP:20260424T204048
CREATED:20250106T121753Z
LAST-MODIFIED:20250106T121753Z
UID:23697-1759968000-1760227199@diagnosticojournal.com
SUMMARY:26° Congreso Chileno de Radiología 2025
DESCRIPTION:
URL:https://diagnosticojournal.com/evento/26-congreso-chileno-de-radiologia-2025/
LOCATION:Centro de Eventos Metropolitan\, Santiago\, Chile
ATTACH;FMTTYPE=image/png:https://diagnosticojournal.com/wp-content/uploads/2025/01/SOCHRADI.png
ORGANIZER;CN="Sociedad Chilena de Radiolog%C3%ADa":MAILTO:contacto@sochradi.cl
END:VEVENT
END:VCALENDAR