BEGIN:VCALENDAR
VERSION:2.0
PRODID:-//Diagnóstico Journal - ECPv6.15.17//NONSGML v1.0//EN
CALSCALE:GREGORIAN
METHOD:PUBLISH
X-WR-CALNAME:Diagnóstico Journal
X-ORIGINAL-URL:https://diagnosticojournal.com
X-WR-CALDESC:Eventos para Diagnóstico Journal
REFRESH-INTERVAL;VALUE=DURATION:PT1H
X-Robots-Tag:noindex
X-PUBLISHED-TTL:PT1H
BEGIN:VTIMEZONE
TZID:America/Argentina/Buenos_Aires
BEGIN:STANDARD
TZOFFSETFROM:-0300
TZOFFSETTO:-0300
TZNAME:-03
DTSTART:20240101T000000
END:STANDARD
END:VTIMEZONE
BEGIN:VEVENT
DTSTART;VALUE=DATE:20251015
DTEND;VALUE=DATE:20251019
DTSTAMP:20260424T203758
CREATED:20250527T130851Z
LAST-MODIFIED:20250527T130851Z
UID:24902-1760486400-1760831999@diagnosticojournal.com
SUMMARY:XII Curso Internacional de Imagen Seccional - Radiología de Urgencia
DESCRIPTION:
URL:https://diagnosticojournal.com/evento/xii-curso-internacional-de-imagen-seccional-radiologia-de-urgencia/
LOCATION:Hotel Hard Rock Guadalajara\, Guadalajara\, Mexico
ATTACH;FMTTYPE=image/jpeg:https://diagnosticojournal.com/wp-content/uploads/2025/05/WhatsApp-Image-2025-05-26-at-19.15.34-1.jpeg
ORGANIZER;CN="Federaci%C3%B3n Mexicana de Radiolog%C3%ADa e Imagen":MAILTO:contacto1@fmri.org.mx
END:VEVENT
END:VCALENDAR