BEGIN:VCALENDAR
VERSION:2.0
PRODID:-//Diagnóstico Journal - ECPv6.15.17//NONSGML v1.0//EN
CALSCALE:GREGORIAN
METHOD:PUBLISH
X-ORIGINAL-URL:https://diagnosticojournal.com
X-WR-CALDESC:Eventos para Diagnóstico Journal
REFRESH-INTERVAL;VALUE=DURATION:PT1H
X-Robots-Tag:noindex
X-PUBLISHED-TTL:PT1H
BEGIN:VTIMEZONE
TZID:America/Argentina/Buenos_Aires
BEGIN:STANDARD
TZOFFSETFROM:-0300
TZOFFSETTO:-0300
TZNAME:-03
DTSTART:20240101T000000
END:STANDARD
END:VTIMEZONE
BEGIN:VEVENT
DTSTART;VALUE=DATE:20251114
DTEND;VALUE=DATE:20251116
DTSTAMP:20260421T150742
CREATED:20250527T140641Z
LAST-MODIFIED:20250717T123013Z
UID:24909-1763078400-1763251199@diagnosticojournal.com
SUMMARY:Jornadas Celso Papadópulos - Cuyo 2025\, 1° Jornadas Transandinas de Medicina Nuclear
DESCRIPTION:
URL:https://diagnosticojournal.com/evento/jornadas-celos-papadopulos-cuyo-2025-1-jornadas-transandinas-de-medicina-nuclear/
LOCATION:Centro de Congresos y Exposiciones\, Mendoza\, Argentina
ORGANIZER;CN="Asociaci%C3%B3n Argentina de Biolog%C3%ADa y Medicina Nuclear":MAILTO:aabymn@gmail.com
END:VEVENT
END:VCALENDAR