BEGIN:VCALENDAR
VERSION:2.0
PRODID:-//Diagnóstico Journal - ECPv6.15.17//NONSGML v1.0//EN
CALSCALE:GREGORIAN
METHOD:PUBLISH
X-ORIGINAL-URL:https://diagnosticojournal.com
X-WR-CALDESC:Eventos para Diagnóstico Journal
REFRESH-INTERVAL;VALUE=DURATION:PT1H
X-Robots-Tag:noindex
X-PUBLISHED-TTL:PT1H
BEGIN:VTIMEZONE
TZID:America/Argentina/Buenos_Aires
BEGIN:STANDARD
TZOFFSETFROM:-0300
TZOFFSETTO:-0300
TZNAME:-03
DTSTART:20240101T000000
END:STANDARD
END:VTIMEZONE
BEGIN:VEVENT
DTSTART;VALUE=DATE:20251212
DTEND;VALUE=DATE:20251215
DTSTAMP:20260424T171340
CREATED:20250717T124510Z
LAST-MODIFIED:20250717T124510Z
UID:25393-1765497600-1765756799@diagnosticojournal.com
SUMMARY:CACI - 35° Congreso Nacional 2025
DESCRIPTION:
URL:https://diagnosticojournal.com/evento/caci-35-congreso-nacional-2025/
LOCATION:Hotel Costa Galana\, Mar del Plata\, Argentina
ATTACH;FMTTYPE=image/jpeg:https://diagnosticojournal.com/wp-content/uploads/2025/07/CACI-2025.jpg
END:VEVENT
END:VCALENDAR