BEGIN:VCALENDAR
VERSION:2.0
PRODID:-//Diagnóstico Journal - ECPv6.15.17//NONSGML v1.0//EN
CALSCALE:GREGORIAN
METHOD:PUBLISH
X-ORIGINAL-URL:https://diagnosticojournal.com
X-WR-CALDESC:Eventos para Diagnóstico Journal
REFRESH-INTERVAL;VALUE=DURATION:PT1H
X-Robots-Tag:noindex
X-PUBLISHED-TTL:PT1H
BEGIN:VTIMEZONE
TZID:America/Argentina/Buenos_Aires
BEGIN:STANDARD
TZOFFSETFROM:-0300
TZOFFSETTO:-0300
TZNAME:-03
DTSTART:20250101T000000
END:STANDARD
END:VTIMEZONE
BEGIN:VEVENT
DTSTART;VALUE=DATE:20260309
DTEND;VALUE=DATE:20260313
DTSTAMP:20260424T184045
CREATED:20251119T184926Z
LAST-MODIFIED:20251119T184926Z
UID:26295-1773014400-1773359999@diagnosticojournal.com
SUMMARY:HIMSS 26
DESCRIPTION:
URL:https://diagnosticojournal.com/evento/himss-26/
LOCATION:The Venetian Expo\, 201 Sands Ave.\, Las Vegas\, United States
ATTACH;FMTTYPE=image/png:https://diagnosticojournal.com/wp-content/uploads/2025/11/HIMSS2026.png
END:VEVENT
END:VCALENDAR