BEGIN:VCALENDAR
VERSION:2.0
PRODID:-//Diagnóstico Journal - ECPv6.15.17//NONSGML v1.0//EN
CALSCALE:GREGORIAN
METHOD:PUBLISH
X-WR-CALNAME:Diagnóstico Journal
X-ORIGINAL-URL:https://diagnosticojournal.com
X-WR-CALDESC:Eventos para Diagnóstico Journal
REFRESH-INTERVAL;VALUE=DURATION:PT1H
X-Robots-Tag:noindex
X-PUBLISHED-TTL:PT1H
BEGIN:VTIMEZONE
TZID:America/Argentina/Buenos_Aires
BEGIN:STANDARD
TZOFFSETFROM:-0300
TZOFFSETTO:-0300
TZNAME:-03
DTSTART:20250101T000000
END:STANDARD
END:VTIMEZONE
BEGIN:VEVENT
DTSTART;VALUE=DATE:20260924
DTEND;VALUE=DATE:20260927
DTSTAMP:20260424T214749
CREATED:20260302T193209Z
LAST-MODIFIED:20260302T193645Z
UID:27098-1790208000-1790467199@diagnosticojournal.com
SUMMARY:Congreso Argentino de Diagnóstico por Imágenes - CADI 2026
DESCRIPTION:23 de Septiembre Pre Congeso ESOR \nEn conjunto con México FMRI
URL:https://diagnosticojournal.com/evento/congreso-argentino-de-diagnostico-por-imagenes-cadi-2026/
LOCATION:Centro de Convenciones de la Ciudad de Buenos Aires\, Av. Figueroa Alcorta 2099\, CABA\, Buenos Aires\, Argentina
END:VEVENT
END:VCALENDAR