BEGIN:VCALENDAR
VERSION:2.0
PRODID:-//Diagnóstico Journal - ECPv6.15.17//NONSGML v1.0//EN
CALSCALE:GREGORIAN
METHOD:PUBLISH
X-ORIGINAL-URL:https://diagnosticojournal.com
X-WR-CALDESC:Eventos para Diagnóstico Journal
REFRESH-INTERVAL;VALUE=DURATION:PT1H
X-Robots-Tag:noindex
X-PUBLISHED-TTL:PT1H
BEGIN:VTIMEZONE
TZID:America/Argentina/Buenos_Aires
BEGIN:STANDARD
TZOFFSETFROM:-0300
TZOFFSETTO:-0300
TZNAME:-03
DTSTART:20250101T000000
END:STANDARD
END:VTIMEZONE
BEGIN:VEVENT
DTSTART;VALUE=DATE:20260921
DTEND;VALUE=DATE:20260924
DTSTAMP:20260425T105327
CREATED:20260326T140639Z
LAST-MODIFIED:20260326T140639Z
UID:27306-1789948800-1790207999@diagnosticojournal.com
SUMMARY:SIMI 2026 XXXV Semana del Intervencionismo Mínimamente Invasivo - X Stroke Summit
DESCRIPTION:
URL:https://diagnosticojournal.com/evento/simi-2026-xxxv-semana-del-intervencionismo-minimamente-invasivo-x-stroke-summit/
LOCATION:Alvear Icon Hotel\, Buenos Aires\, Argentina
ORGANIZER;CN="ENERI":MAILTO:info@lylyk.com.ar
END:VEVENT
BEGIN:VEVENT
DTSTART;VALUE=DATE:20260924
DTEND;VALUE=DATE:20260927
DTSTAMP:20260425T105327
CREATED:20260302T193209Z
LAST-MODIFIED:20260302T193645Z
UID:27098-1790208000-1790467199@diagnosticojournal.com
SUMMARY:Congreso Argentino de Diagnóstico por Imágenes - CADI 2026
DESCRIPTION:23 de Septiembre Pre Congeso ESOR \nEn conjunto con México FMRI
URL:https://diagnosticojournal.com/evento/congreso-argentino-de-diagnostico-por-imagenes-cadi-2026/
LOCATION:Centro de Convenciones de la Ciudad de Buenos Aires\, Av. Figueroa Alcorta 2099\, CABA\, Buenos Aires\, Argentina
END:VEVENT
BEGIN:VEVENT
DTSTART;VALUE=DATE:20261008
DTEND;VALUE=DATE:20261011
DTSTAMP:20260425T105327
CREATED:20251119T200245Z
LAST-MODIFIED:20251119T200245Z
UID:26313-1791417600-1791676799@diagnosticojournal.com
SUMMARY:27° Congreso Chileno de Radiología
DESCRIPTION:
URL:https://diagnosticojournal.com/evento/27-congreso-chileno-de-radiologia/
LOCATION:Centro de Convenciones Metropolitan\, Santiago\, Chile
ATTACH;FMTTYPE=image/jpeg:https://diagnosticojournal.com/wp-content/uploads/2025/11/CCHR2026-1.jpg
ORGANIZER;CN="Sociedad Chilena de Radiolog%C3%ADa":MAILTO:contacto@sochradi.cl
END:VEVENT
BEGIN:VEVENT
DTSTART;VALUE=DATE:20261013
DTEND;VALUE=DATE:20261017
DTSTAMP:20260425T105327
CREATED:20260126T155313Z
LAST-MODIFIED:20260126T155313Z
UID:26693-1791849600-1792195199@diagnosticojournal.com
SUMMARY:XXXII Congreso Nacional de Imagenología Diagnóstica y Terapéutica
DESCRIPTION:
URL:https://diagnosticojournal.com/evento/xxxii-congreso-nacional-de-imagenologia-diagnostica-y-terapeutica/
LOCATION:Monterrey\, Nevo León\, Moterrey\, Nuevo León\, Mexico
ATTACH;FMTTYPE=image/png:https://diagnosticojournal.com/wp-content/uploads/2026/01/Congreso-Nacional-de-Imagenologia-Monterrey-2026.png
ORGANIZER;CN="Federaci%C3%B3n Mexicana de Radiolog%C3%ADa e Imagen":MAILTO:contacto1@fmri.org.mx
END:VEVENT
BEGIN:VEVENT
DTSTART;VALUE=DATE:20261022
DTEND;VALUE=DATE:20261025
DTSTAMP:20260425T105327
CREATED:20260327T134700Z
LAST-MODIFIED:20260327T134727Z
UID:27311-1792627200-1792886399@diagnosticojournal.com
SUMMARY:XV Congreso Uruguayo de Imagenología y XIX Congreso SIBIM
DESCRIPTION:El Congreso Uruguayo de Imagenología es Co organizado por la SRIU y la SPR
URL:https://diagnosticojournal.com/evento/xv-congreso-uruguayo-de-imagenologia-y-xix-congreso-sibim/
LOCATION:Jean Clevers Parque Hotel\, Bvar. Artigas y parada 7\, Punta del Este 20100\, Punta del Este\, Uruguay
END:VEVENT
BEGIN:VEVENT
DTSTART;VALUE=DATE:20261111
DTEND;VALUE=DATE:20261112
DTSTAMP:20260425T105327
CREATED:20260127T153744Z
LAST-MODIFIED:20260127T153744Z
UID:26715-1794355200-1794441599@diagnosticojournal.com
SUMMARY:Healthnology Chile 2026
DESCRIPTION:
URL:https://diagnosticojournal.com/evento/healthnology-chile-2026/
LOCATION:Hotel Intercontinental Santiago\, Santiago de Chile\, Chile
END:VEVENT
END:VCALENDAR