BEGIN:VCALENDAR
VERSION:2.0
PRODID:-//Diagnóstico Journal - ECPv6.15.17//NONSGML v1.0//EN
CALSCALE:GREGORIAN
METHOD:PUBLISH
X-WR-CALNAME:Diagnóstico Journal
X-ORIGINAL-URL:https://diagnosticojournal.com
X-WR-CALDESC:Eventos para Diagnóstico Journal
REFRESH-INTERVAL;VALUE=DURATION:PT1H
X-Robots-Tag:noindex
X-PUBLISHED-TTL:PT1H
BEGIN:VTIMEZONE
TZID:America/Argentina/Buenos_Aires
BEGIN:STANDARD
TZOFFSETFROM:-0300
TZOFFSETTO:-0300
TZNAME:-03
DTSTART:20240101T000000
END:STANDARD
END:VTIMEZONE
BEGIN:VEVENT
DTSTART;VALUE=DATE:20250206
DTEND;VALUE=DATE:20250209
DTSTAMP:20260425T075656
CREATED:20250106T121107Z
LAST-MODIFIED:20250106T121107Z
UID:23693-1738800000-1739059199@diagnosticojournal.com
SUMMARY:LIX Curso Internacional de Radiología e Imagen - XXXVII Encuentro Internacional de Residentes en Radiología
DESCRIPTION:
URL:https://diagnosticojournal.com/evento/lix-curso-internacional-de-radiologia-e-imagen-xxxvii-encuentro-internacional-de-residentes-en-radiologia/
LOCATION:Hotel Marquis Reforma\, Ciudad de México\, DF\, México
ATTACH;FMTTYPE=image/jpeg:https://diagnosticojournal.com/wp-content/uploads/2025/01/SMRI2025.jpg
END:VEVENT
BEGIN:VEVENT
DTSTART;VALUE=DATE:20250226
DTEND;VALUE=DATE:20250303
DTSTAMP:20260425T075656
CREATED:20241021T184734Z
LAST-MODIFIED:20241021T184734Z
UID:22907-1740528000-1740959999@diagnosticojournal.com
SUMMARY:European Congress of Radiology - ECR 2025
DESCRIPTION:
URL:https://diagnosticojournal.com/evento/european-congress-of-radiology-ecr-2025/
LOCATION:Austria Center Vienna\, Bruno Kreisky Platz 1\, Vienna\, 1220\, Austria
ATTACH;FMTTYPE=image/png:https://diagnosticojournal.com/wp-content/uploads/2024/10/ESR.png
ORGANIZER;CN="European Society of Radiology":MAILTO:communications@myesr.org
END:VEVENT
END:VCALENDAR