BEGIN:VCALENDAR
VERSION:2.0
PRODID:-//Diagnóstico Journal - ECPv6.15.17//NONSGML v1.0//EN
CALSCALE:GREGORIAN
METHOD:PUBLISH
X-WR-CALNAME:Diagnóstico Journal
X-ORIGINAL-URL:https://diagnosticojournal.com
X-WR-CALDESC:Eventos para Diagnóstico Journal
REFRESH-INTERVAL;VALUE=DURATION:PT1H
X-Robots-Tag:noindex
X-PUBLISHED-TTL:PT1H
BEGIN:VTIMEZONE
TZID:America/Argentina/Buenos_Aires
BEGIN:STANDARD
TZOFFSETFROM:-0300
TZOFFSETTO:-0300
TZNAME:-03
DTSTART:20240101T000000
END:STANDARD
END:VTIMEZONE
BEGIN:VEVENT
DTSTART;VALUE=DATE:20250604
DTEND;VALUE=DATE:20250607
DTSTAMP:20260425T011849
CREATED:20250527T190903Z
LAST-MODIFIED:20250527T190903Z
UID:24914-1748995200-1749254399@diagnosticojournal.com
SUMMARY:SOGIBA 2025 - XLII Congreso Internacional de Obstetricia y Ginecología
DESCRIPTION:16° Encuentro Nacional del Ejercicio Profesional\n11° Jornada de Enfermería Perinatal
URL:https://diagnosticojournal.com/evento/sogiba-2025-xlii-congreso-internacional-de-obstetricia-y-ginecologia/
LOCATION:Hotel Marriott Buenos Aires\, CABA\, Buenos Aires\, Argentina
ATTACH;FMTTYPE=image/png:https://diagnosticojournal.com/wp-content/uploads/2025/05/sogiba2025.png
ORGANIZER;CN="Soceidad de Obstetricia y Ginecolog%C3%ADa de Buenos Aires":MAILTO:sogiba@sogiba.org.ar
END:VEVENT
BEGIN:VEVENT
DTSTART;VALUE=DATE:20250611
DTEND;VALUE=DATE:20250614
DTSTAMP:20260425T011849
CREATED:20241022T122131Z
LAST-MODIFIED:20250421T140916Z
UID:22929-1749600000-1749859199@diagnosticojournal.com
SUMMARY:WHM Miami (Ex FIME)
DESCRIPTION:
URL:https://diagnosticojournal.com/evento/fime-florida-international-medical-expo/
LOCATION:Miami Beach Convention Center\, Miami Beach\, Estados Unidos
END:VEVENT
BEGIN:VEVENT
DTSTART;VALUE=DATE:20250612
DTEND;VALUE=DATE:20250614
DTSTAMP:20260425T011849
CREATED:20250429T130502Z
LAST-MODIFIED:20250429T130502Z
UID:24772-1749686400-1749859199@diagnosticojournal.com
SUMMARY:Jornadas Internacionales del Conosur de Cáncer de Mama - XVIII Congreso SIBIM 2025
DESCRIPTION:
URL:https://diagnosticojournal.com/evento/jornadas-internacionales-del-conosur-de-cancer-de-mama-xviii-congreso-sibim-2025/
LOCATION:Hotel Ros Tower\, Mitre 299\, Rosario\, Santa Fe\, Argentina
END:VEVENT
BEGIN:VEVENT
DTSTART;VALUE=DATE:20250619
DTEND;VALUE=DATE:20250622
DTSTAMP:20260425T011849
CREATED:20241021T145145Z
LAST-MODIFIED:20241021T145145Z
UID:22903-1750291200-1750550399@diagnosticojournal.com
SUMMARY:Congreso Internacional de Diagnóstico por Imágenes - CIDITUC 2025
DESCRIPTION:
URL:https://diagnosticojournal.com/evento/congreso-internacional-de-diagnostico-por-imagenes-cidituc-2025/
LOCATION:San Miguel de Tucumán\, Armenia
ATTACH;FMTTYPE=image/jpeg:https://diagnosticojournal.com/wp-content/uploads/2024/10/CIDITUC-2025.jpg
ORGANIZER;CN="Sociedad Tucumana de Radiolog%C3%ADa":MAILTO:soturadconsultas@gmail.com
END:VEVENT
BEGIN:VEVENT
DTSTART;VALUE=DATE:20250627
DTEND;VALUE=DATE:20250629
DTSTAMP:20260425T011849
CREATED:20250429T115118Z
LAST-MODIFIED:20250429T115118Z
UID:24768-1750982400-1751155199@diagnosticojournal.com
SUMMARY:I Jornadas Franco - Cono Sur de Radiología
DESCRIPTION:Imágenes en Urología y Ginecología
URL:https://diagnosticojournal.com/evento/i-jornadas-franco-cono-sur-de-radiologia/
LOCATION:Auditorio SAEU\, Bulnes 1140\, C.A.B.A.\, Argentina
ATTACH;FMTTYPE=image/png:https://diagnosticojournal.com/wp-content/uploads/2025/04/Jornadas-Franco-Cono-Sur-de-Radiologia_banner-web-2048x768-1.png
END:VEVENT
END:VCALENDAR