BEGIN:VCALENDAR
VERSION:2.0
PRODID:-//Diagnóstico Journal - ECPv6.15.17//NONSGML v1.0//EN
CALSCALE:GREGORIAN
METHOD:PUBLISH
X-WR-CALNAME:Diagnóstico Journal
X-ORIGINAL-URL:https://diagnosticojournal.com
X-WR-CALDESC:Eventos para Diagnóstico Journal
REFRESH-INTERVAL;VALUE=DURATION:PT1H
X-Robots-Tag:noindex
X-PUBLISHED-TTL:PT1H
BEGIN:VTIMEZONE
TZID:America/Argentina/Buenos_Aires
BEGIN:STANDARD
TZOFFSETFROM:-0300
TZOFFSETTO:-0300
TZNAME:-03
DTSTART:20240101T000000
END:STANDARD
END:VTIMEZONE
BEGIN:VEVENT
DTSTART;VALUE=DATE:20250702
DTEND;VALUE=DATE:20250706
DTSTAMP:20260424T235018
CREATED:20250527T191414Z
LAST-MODIFIED:20250527T191414Z
UID:24918-1751414400-1751759999@diagnosticojournal.com
SUMMARY:XLIV Semana Internacional del Ultrasonido
DESCRIPTION:
URL:https://diagnosticojournal.com/evento/xliv-semana-internacional-del-ultrasonido/
LOCATION:Hotel Fiesta Americana\, Mérida\, Mexico
ATTACH;FMTTYPE=image/webp:https://diagnosticojournal.com/wp-content/uploads/2025/05/SIUSMeridoa-2025.webp
ORGANIZER;CN="Federaci%C3%B3n Mexicana de Radiolog%C3%ADa e Imagen":MAILTO:contacto1@fmri.org.mx
END:VEVENT
BEGIN:VEVENT
DTSTART;VALUE=DATE:20250703
DTEND;VALUE=DATE:20250705
DTSTAMP:20260424T235018
CREATED:20250124T140745Z
LAST-MODIFIED:20250124T140745Z
UID:23925-1751500800-1751673599@diagnosticojournal.com
SUMMARY:Congreso de Imágenes Cardiovasculares - Imágenes.25
DESCRIPTION:
URL:https://diagnosticojournal.com/evento/congreso-de-imagenes-cardiovasculares-imagenes-25/
LOCATION:La Rural\, Predio Ferial de Buenos Aires\, Buenos Aires\, Argentina
ORGANIZER;CN="Sociedad Argentina de Cardiolog%C3%ADa":MAILTO:info@sac.org.ar
END:VEVENT
BEGIN:VEVENT
DTSTART;VALUE=DATE:20250704
DTEND;VALUE=DATE:20250707
DTSTAMP:20260424T235018
CREATED:20250527T191856Z
LAST-MODIFIED:20250527T191936Z
UID:24922-1751587200-1751846399@diagnosticojournal.com
SUMMARY:CLIM - IV Curso Internacional Teórico - Práctico de la Comunidad Latinoamericana de Imagenólogos Mamarios
DESCRIPTION:
URL:https://diagnosticojournal.com/evento/clim-iv-curso-internacional-teorico-practico-de-la-comunidad-latinoamericana-de-imagenologos-mamarios/
LOCATION:Universidad Católica Argentina\, Argentina
END:VEVENT
END:VCALENDAR