BEGIN:VCALENDAR
VERSION:2.0
PRODID:-//Diagnóstico Journal - ECPv6.15.17//NONSGML v1.0//EN
CALSCALE:GREGORIAN
METHOD:PUBLISH
X-WR-CALNAME:Diagnóstico Journal
X-ORIGINAL-URL:https://diagnosticojournal.com
X-WR-CALDESC:Eventos para Diagnóstico Journal
REFRESH-INTERVAL;VALUE=DURATION:PT1H
X-Robots-Tag:noindex
X-PUBLISHED-TTL:PT1H
BEGIN:VTIMEZONE
TZID:America/Argentina/Buenos_Aires
BEGIN:STANDARD
TZOFFSETFROM:-0300
TZOFFSETTO:-0300
TZNAME:-03
DTSTART:20250101T000000
END:STANDARD
END:VTIMEZONE
BEGIN:VEVENT
DTSTART;VALUE=DATE:20260430
DTEND;VALUE=DATE:20260504
DTSTAMP:20260417T155102
CREATED:20251119T185240Z
LAST-MODIFIED:20251119T185240Z
UID:26299-1777507200-1777852799@diagnosticojournal.com
SUMMARY:56° Jornada Paulista de Radiologia - JPR2026
DESCRIPTION:
URL:https://diagnosticojournal.com/evento/56-jornada-paulista-de-radiologia-jpr2026/
LOCATION:Transamerica Expo Center\, San Pablo\, Brasil
ATTACH;FMTTYPE=image/png:https://diagnosticojournal.com/wp-content/uploads/2025/11/JPR2026.png
END:VEVENT
BEGIN:VEVENT
DTSTART;VALUE=DATE:20260514
DTEND;VALUE=DATE:20260517
DTSTAMP:20260417T155102
CREATED:20251119T185932Z
LAST-MODIFIED:20251119T185932Z
UID:26304-1778716800-1778975999@diagnosticojournal.com
SUMMARY:49° Congreso Colombiano de Radiología - International Congress of Radiology 2026
DESCRIPTION:
URL:https://diagnosticojournal.com/evento/49-congreso-colombiano-de-radiologia-international-congress-of-radiology-2026/
LOCATION:Centro de Convenciones de Cartagena de Indias\, Cartagena de Indias\, Colombia
ATTACH;FMTTYPE=image/jpeg:https://diagnosticojournal.com/wp-content/uploads/2025/11/CCR2026.jpg
ORGANIZER;CN="Asociaci%C3%B3n Colombiana de Radiolog%C3%ADa":MAILTO:virtual@acronline.org
END:VEVENT
BEGIN:VEVENT
DTSTART;VALUE=DATE:20260519
DTEND;VALUE=DATE:20260523
DTSTAMP:20260417T155102
CREATED:20251119T191728Z
LAST-MODIFIED:20251119T191728Z
UID:26307-1779148800-1779494399@diagnosticojournal.com
SUMMARY:Hospitalar
DESCRIPTION:
URL:https://diagnosticojournal.com/evento/hospitalar-2/
LOCATION:Sao Paulo Expo\, San Pablo\, Brasil
ATTACH;FMTTYPE=image/webp:https://diagnosticojournal.com/wp-content/uploads/2025/11/Hospitalar.webp
END:VEVENT
END:VCALENDAR