BEGIN:VCALENDAR
VERSION:2.0
PRODID:-//Diagnóstico Journal - ECPv6.15.17//NONSGML v1.0//EN
CALSCALE:GREGORIAN
METHOD:PUBLISH
X-ORIGINAL-URL:https://diagnosticojournal.com
X-WR-CALDESC:Eventos para Diagnóstico Journal
REFRESH-INTERVAL;VALUE=DURATION:PT1H
X-Robots-Tag:noindex
X-PUBLISHED-TTL:PT1H
BEGIN:VTIMEZONE
TZID:America/Argentina/Buenos_Aires
BEGIN:STANDARD
TZOFFSETFROM:-0300
TZOFFSETTO:-0300
TZNAME:-03
DTSTART:20250101T000000
END:STANDARD
END:VTIMEZONE
BEGIN:VEVENT
DTSTART;VALUE=DATE:20260708
DTEND;VALUE=DATE:20260711
DTSTAMP:20260417T181311
CREATED:20251125T115340Z
LAST-MODIFIED:20251125T115340Z
UID:26419-1783468800-1783727999@diagnosticojournal.com
SUMMARY:Semana Internacional de Ultrasonido
DESCRIPTION:
URL:https://diagnosticojournal.com/evento/semana-internacional-de-ultrasonido/
LOCATION:Fiesta Americana Mérida\, Merida\, Mexico
ATTACH;FMTTYPE=image/jpeg:https://diagnosticojournal.com/wp-content/uploads/2025/11/WhatsApp-Image-2025-11-20-at-19.56.28.jpeg
ORGANIZER;CN="Federaci%C3%B3n Mexicana de Radiolog%C3%ADa e Imagen":MAILTO:contacto1@fmri.org.mx
END:VEVENT
BEGIN:VEVENT
DTSTART;VALUE=DATE:20260712
DTEND;VALUE=DATE:20260716
DTSTAMP:20260417T181311
CREATED:20260126T202128Z
LAST-MODIFIED:20260126T202128Z
UID:26698-1783814400-1784159999@diagnosticojournal.com
SUMMARY:AHRA Annual Meeting
DESCRIPTION:
URL:https://diagnosticojournal.com/evento/ahra-annual-meeting/
LOCATION:Marriott World Center\, Orlando\, United States
ATTACH;FMTTYPE=image/png:https://diagnosticojournal.com/wp-content/uploads/2026/01/AHRA_2026-scaled.png
END:VEVENT
BEGIN:VEVENT
DTSTART;VALUE=DATE:20260729
DTEND;VALUE=DATE:20260801
DTSTAMP:20260417T181311
CREATED:20260209T121404Z
LAST-MODIFIED:20260209T121404Z
UID:26816-1785283200-1785542399@diagnosticojournal.com
SUMMARY:SOLACI - SBHCI 2026
DESCRIPTION:
URL:https://diagnosticojournal.com/evento/solaci-sbhci-2026/
LOCATION:World Trade Center Sao Paulo\, San Pablo\, Brazil
ATTACH;FMTTYPE=image/jpeg:https://diagnosticojournal.com/wp-content/uploads/2026/02/SOLACI2026.jpg
END:VEVENT
END:VCALENDAR